BEGIN:VCALENDAR
VERSION:2.0
PRODID:-//Tukios.com/
BEGIN:VEVENT
UID:2031b9f1-72b2-48e3-8a5e-a050466a9039@www.starksonfamily.com
DTSTAMP:20260423T025009Z
DTSTART:20260427T210000Z
DTEND:20260427T230000Z
SUMMARY:Memorial Gathering
DESCRIPTION:
URL:https://www.starksonfamily.com/obituaries/zachary-van-de-velde
LOCATION:Starkson Family Life Celebration Chapel 3075 Vermillion St  
	Hastings MN 55033
GEO:44.716306;-92.8494394
END:VEVENT
END:VCALENDAR