BEGIN:VCALENDAR
VERSION:2.0
PRODID:-//Tukios.com/
BEGIN:VEVENT
UID:2b8607ce-d285-497b-bbde-ee6beff3abae@www.starksonfamily.com
DTSTAMP:20260419T133219Z
DTSTART:20260420T160000Z
DTEND:20260420T170000Z
SUMMARY:Mass
DESCRIPTION:
URL:https://www.starksonfamily.com/obituaries/susanna-susie-dushane
LOCATION: 2035 15th Street West  Hastings MN 55033
GEO:44.7301717;-92.8958383
END:VEVENT
END:VCALENDAR