BEGIN:VCALENDAR
VERSION:2.0
PRODID:-//Tukios.com/
BEGIN:VEVENT
UID:b59ec614-1971-4794-a19d-b2c03453ad56@www.starksonfamily.com
DTSTAMP:20260424T163400Z
DTSTART:20260503T200000Z
DTEND:20260504T000000Z
SUMMARY:Celebration of Life
DESCRIPTION:
URL:https://www.starksonfamily.com/obituaries/roseann-swanson
LOCATION: 1220 Vermillion Street  Hastings MN 55033
GEO:44.733402;-92.853572
END:VEVENT
END:VCALENDAR