BEGIN:VCALENDAR
VERSION:2.0
PRODID:-//Tukios.com/
BEGIN:VEVENT
UID:e7fa3dd5-979e-45fe-ade0-639f040762f3@www.starksonfamily.com
DTSTAMP:20260422T223029Z
DTSTART:20260427T160000Z
DTEND:20260427T170000Z
SUMMARY:Mass
DESCRIPTION:
URL:https://www.starksonfamily.com/obituaries/ronald-driscoll
LOCATION:St. Elizabeth Ann Seton Catholic Church 2035 15th Street West  
	Hastings MN 55033
GEO:44.7301717;-92.8958383
END:VEVENT
END:VCALENDAR