BEGIN:VCALENDAR
VERSION:2.0
PRODID:-//Tukios.com/
BEGIN:VEVENT
UID:157dd776-038d-4033-b90f-76c4fd05dd69@www.starksonfamily.com
DTSTAMP:20260422T224028Z
DTSTART:20260427T143000Z
DTEND:20260427T160000Z
SUMMARY:Visitation
DESCRIPTION:
URL:https://www.starksonfamily.com/obituaries/ronald-driscoll
LOCATION:St. Elizabeth Ann Seton Catholic Church 2035 15th Street West  
	Hastings MN 55033
GEO:44.7301717;-92.8958383
END:VEVENT
END:VCALENDAR