BEGIN:VCALENDAR
VERSION:2.0
PRODID:-//Tukios.com/
BEGIN:VEVENT
UID:0e0eb109-d462-4bdc-beef-dc32c6b64a4f@www.starksonfamily.com
DTSTAMP:20260420T201333Z
DTSTART:20260613T160000Z
DTEND:20260613T170000Z
SUMMARY:Interment
DESCRIPTION:
URL:https://www.starksonfamily.com/obituaries/iva-schnell
LOCATION: 3070 Vermillion Street  Hastings MN 55033
GEO:44.7164151;-92.8512039
END:VEVENT
END:VCALENDAR