BEGIN:VCALENDAR
VERSION:2.0
PRODID:-//Tukios.com/
BEGIN:VEVENT
UID:bd2c1f14-9114-47f7-a4aa-c51c4ac188bd@www.starksonfamily.com
DTSTAMP:20260420T201157Z
DTSTART:20260613T150000Z
DTEND:20260613T160000Z
SUMMARY:Memorial Service
DESCRIPTION:
URL:https://www.starksonfamily.com/obituaries/iva-schnell
LOCATION:Starkson Family Life Celebration Chapel 3075 Vermillion St  
	Hastings MN 55033
GEO:44.716306;-92.8494394
END:VEVENT
END:VCALENDAR