BEGIN:VCALENDAR
VERSION:2.0
PRODID:-//Tukios.com/
BEGIN:VEVENT
UID:081f2258-8e5b-4483-91e6-530013741ef9@www.starksonfamily.com
DTSTAMP:20260421T024242Z
DTSTART:20260509T153000Z
DTEND:20260509T160000Z
SUMMARY:Visitation
DESCRIPTION:
URL:https://www.starksonfamily.com/obituaries/dorothy-elaine-burns
LOCATION:Starkson Family Life Celebration Chapel-Anderson Chapel 14850 
	Garrett Avenue  Apple Valley MN 55124
GEO:44.7347314;-93.2100587
END:VEVENT
END:VCALENDAR