BEGIN:VCALENDAR
VERSION:2.0
PRODID:-//Tukios.com/
BEGIN:VEVENT
UID:d73f01dc-1610-42d1-b422-a235f954613b@www.starksonfamily.com
DTSTAMP:20260421T024831Z
DTSTART:20260509T160000Z
DTEND:20260509T170000Z
SUMMARY:Celebration of Life
DESCRIPTION:
URL:https://www.starksonfamily.com/obituaries/dorothy-elaine-burns
LOCATION:Starkson Family Life Celebration Chapel-Anderson Chapel 14850 
	Garrett Avenue  Apple Valley MN 55124
GEO:44.7347314;-93.2100587
END:VEVENT
END:VCALENDAR