BEGIN:VCALENDAR
VERSION:2.0
PRODID:-//Tukios.com/
BEGIN:VEVENT
UID:7d5477c7-0014-4e78-9af9-96ba10581172@www.starksonfamily.com
DTSTAMP:20260424T221015Z
DTSTART:20260515T200000Z
DTEND:20260515T213000Z
SUMMARY:Visitation
DESCRIPTION:
URL:https://www.starksonfamily.com/obituaries/constance-jancoski
LOCATION:Starkson Family Life Celebration Chapel 3075 Vermillion St  
	Hastings MN 55033
GEO:44.716306;-92.8494394
END:VEVENT
END:VCALENDAR