BEGIN:VCALENDAR
VERSION:2.0
PRODID:-//Tukios.com/
BEGIN:VEVENT
UID:203912ee-3673-4050-a78f-61918ea05a2c@www.starksonfamily.com
DTSTAMP:20260424T221249Z
DTSTART:20260515T213000Z
DTEND:20260515T223000Z
SUMMARY:Celebration of Life
DESCRIPTION:
URL:https://www.starksonfamily.com/obituaries/constance-jancoski
LOCATION:Starkson Family Life Celebration Chapel 3075 Vermillion St  
	Hastings MN 55033
GEO:44.716306;-92.8494394
END:VEVENT
END:VCALENDAR