BEGIN:VCALENDAR
VERSION:2.0
PRODID:-//Tukios.com/
BEGIN:VEVENT
UID:58270d96-a406-4611-9e3f-f3e0fd1be282@www.starksonfamily.com
DTSTAMP:20260423T222525Z
DTSTART:20260529T160000Z
DTEND:20260529T170000Z
SUMMARY:Memorial Service
DESCRIPTION:
URL:https://www.starksonfamily.com/obituaries/alyce-swanson
LOCATION: 400 West 9th Street  Hastings MN 55033
GEO:44.7375986;-92.8569625
END:VEVENT
END:VCALENDAR