BEGIN:VCALENDAR
VERSION:2.0
PRODID:-//Tukios.com/
BEGIN:VEVENT
UID:af3fe79e-c802-4dee-b2fd-ae8380059b7d@www.starksonfamily.com
DTSTAMP:20260423T222655Z
DTSTART:20260529T150000Z
DTEND:20260529T160000Z
SUMMARY:Visitation
DESCRIPTION:
URL:https://www.starksonfamily.com/obituaries/alyce-swanson
LOCATION: 400 West 9th Street  Hastings MN 55033
GEO:44.7375986;-92.8569625
END:VEVENT
END:VCALENDAR